BEGIN:VCALENDAR
VERSION:2.0
PRODID:-//Wolfenhausen im Taunus - ECPv6.15.16//NONSGML v1.0//EN
CALSCALE:GREGORIAN
METHOD:PUBLISH
X-ORIGINAL-URL:https://wolfenhausen-im-taunus.de
X-WR-CALDESC:Veranstaltungen für Wolfenhausen im Taunus
REFRESH-INTERVAL;VALUE=DURATION:PT1H
X-Robots-Tag:noindex
X-PUBLISHED-TTL:PT1H
BEGIN:VTIMEZONE
TZID:Europe/Berlin
BEGIN:DAYLIGHT
TZOFFSETFROM:+0100
TZOFFSETTO:+0200
TZNAME:CEST
DTSTART:20250330T010000
END:DAYLIGHT
BEGIN:STANDARD
TZOFFSETFROM:+0200
TZOFFSETTO:+0100
TZNAME:CET
DTSTART:20251026T010000
END:STANDARD
BEGIN:DAYLIGHT
TZOFFSETFROM:+0100
TZOFFSETTO:+0200
TZNAME:CEST
DTSTART:20260329T010000
END:DAYLIGHT
BEGIN:STANDARD
TZOFFSETFROM:+0200
TZOFFSETTO:+0100
TZNAME:CET
DTSTART:20261025T010000
END:STANDARD
BEGIN:DAYLIGHT
TZOFFSETFROM:+0100
TZOFFSETTO:+0200
TZNAME:CEST
DTSTART:20270328T010000
END:DAYLIGHT
BEGIN:STANDARD
TZOFFSETFROM:+0200
TZOFFSETTO:+0100
TZNAME:CET
DTSTART:20271031T010000
END:STANDARD
END:VTIMEZONE
BEGIN:VEVENT
DTSTART;VALUE=DATE:20260501
DTEND;VALUE=DATE:20260502
DTSTAMP:20260421T103500
CREATED:20251108T090106Z
LAST-MODIFIED:20251108T090106Z
UID:10000162-1777593600-1777679999@wolfenhausen-im-taunus.de
SUMMARY:Maiwanderung
DESCRIPTION:
URL:https://wolfenhausen-im-taunus.de/event/maiwanderung/
LOCATION:Schützenhaus\, Bornbachstraße 73\, Weilmünster\, 35789\, Deutschland
CATEGORIES:Schützenverein
END:VEVENT
BEGIN:VEVENT
DTSTART;VALUE=DATE:20260509
DTEND;VALUE=DATE:20260510
DTSTAMP:20260421T103500
CREATED:20251108T090203Z
LAST-MODIFIED:20251108T090203Z
UID:10000163-1778284800-1778371199@wolfenhausen-im-taunus.de
SUMMARY:Party 100 Jahre SV Wolfenhausen
DESCRIPTION:
URL:https://wolfenhausen-im-taunus.de/event/party-100-jahre-sv-wolfenhausen/
LOCATION:Sportlerheim\, Bornbachstraße 73\, Weilmünster\, 35789\, Deutschland
CATEGORIES:Sportverein
END:VEVENT
BEGIN:VEVENT
DTSTART;VALUE=DATE:20260515
DTEND;VALUE=DATE:20260516
DTSTAMP:20260421T103500
CREATED:20251108T090238Z
LAST-MODIFIED:20251108T090238Z
UID:10000164-1778803200-1778889599@wolfenhausen-im-taunus.de
SUMMARY:Festkommers 100 Jahre SV Wolfenhausen
DESCRIPTION:
URL:https://wolfenhausen-im-taunus.de/event/festkommers-100-jahre-sv-wolfenhausen/
LOCATION:Dorfgemeinschaftshaus\, Kirschbaumweg 17\, Weilmünster\, Hessen\, 35789\, Deutschland
CATEGORIES:Sportverein
END:VEVENT
BEGIN:VEVENT
DTSTART;VALUE=DATE:20260516
DTEND;VALUE=DATE:20260517
DTSTAMP:20260421T103500
CREATED:20251108T090327Z
LAST-MODIFIED:20251108T090327Z
UID:10000165-1778889600-1778975999@wolfenhausen-im-taunus.de
SUMMARY:Bierfest
DESCRIPTION:
URL:https://wolfenhausen-im-taunus.de/event/bierfest/
LOCATION:Bornbachstraße
END:VEVENT
BEGIN:VEVENT
DTSTART;VALUE=DATE:20260517
DTEND;VALUE=DATE:20260518
DTSTAMP:20260421T103500
CREATED:20251108T090403Z
LAST-MODIFIED:20251108T090403Z
UID:10000166-1778976000-1779062399@wolfenhausen-im-taunus.de
SUMMARY:Bilderausstellung 100 Jahre SV Wolfenhausen
DESCRIPTION:
URL:https://wolfenhausen-im-taunus.de/event/bilderausstellung-100-jahre-sv-wolfenhausen/
LOCATION:Sportlerheim\, Bornbachstraße 73\, Weilmünster\, 35789\, Deutschland
CATEGORIES:Sportverein
END:VEVENT
BEGIN:VEVENT
DTSTART;VALUE=DATE:20260522
DTEND;VALUE=DATE:20260526
DTSTAMP:20260421T103500
CREATED:20251108T090459Z
LAST-MODIFIED:20251108T090459Z
UID:10000167-1779408000-1779753599@wolfenhausen-im-taunus.de
SUMMARY:Jugendzeltlager
DESCRIPTION:
URL:https://wolfenhausen-im-taunus.de/event/jugendzeltlager-2/
LOCATION:Hessen
CATEGORIES:Freiwillige Feuerwehr
END:VEVENT
BEGIN:VEVENT
DTSTART;VALUE=DATE:20260531
DTEND;VALUE=DATE:20260601
DTSTAMP:20260421T103500
CREATED:20251108T090529Z
LAST-MODIFIED:20251108T090529Z
UID:10000168-1780185600-1780271999@wolfenhausen-im-taunus.de
SUMMARY:Nachbarschaftsgottesdienst
DESCRIPTION:
URL:https://wolfenhausen-im-taunus.de/event/nachbarschaftsgottesdienst-5/
LOCATION:Weinbach
CATEGORIES:Ev. Kirchengemeinde
END:VEVENT
BEGIN:VEVENT
DTSTART;VALUE=DATE:20260614
DTEND;VALUE=DATE:20260615
DTSTAMP:20260421T103500
CREATED:20251108T090604Z
LAST-MODIFIED:20251108T090604Z
UID:10000169-1781395200-1781481599@wolfenhausen-im-taunus.de
SUMMARY:Konfirmation
DESCRIPTION:
URL:https://wolfenhausen-im-taunus.de/event/konfirmation/
LOCATION:Evangelische Kirche\, Kirchbergweg\, Weilmünster\, 35789\, Deutschland
CATEGORIES:Ev. Kirchengemeinde
END:VEVENT
BEGIN:VEVENT
DTSTART;VALUE=DATE:20260614
DTEND;VALUE=DATE:20260615
DTSTAMP:20260421T103500
CREATED:20251108T090701Z
LAST-MODIFIED:20251108T090701Z
UID:10000170-1781395200-1781481599@wolfenhausen-im-taunus.de
SUMMARY:Spritzenhausfest
DESCRIPTION:
URL:https://wolfenhausen-im-taunus.de/event/spritzenhausfest/
LOCATION:Feuerwehr Gerätehaus\, Kirschbaumweg 15\, Weilmünster\, 35789\, Deutschland
CATEGORIES:Freiwillige Feuerwehr
END:VEVENT
BEGIN:VEVENT
DTSTART;VALUE=DATE:20260620
DTEND;VALUE=DATE:20260621
DTSTAMP:20260421T103500
CREATED:20251108T090734Z
LAST-MODIFIED:20251108T090734Z
UID:10000171-1781913600-1781999999@wolfenhausen-im-taunus.de
SUMMARY:Ü40 Traditionsteam 100 Jahre SV Wolfenhausen
DESCRIPTION:
URL:https://wolfenhausen-im-taunus.de/event/ue40-traditionsteam-100-jahre-sv-wolfenhausen/
LOCATION:Sportlerheim\, Bornbachstraße 73\, Weilmünster\, 35789\, Deutschland
CATEGORIES:Sportverein
END:VEVENT
BEGIN:VEVENT
DTSTART;VALUE=DATE:20260621
DTEND;VALUE=DATE:20260622
DTSTAMP:20260421T103500
CREATED:20251108T090817Z
LAST-MODIFIED:20251108T090817Z
UID:10000172-1782000000-1782086399@wolfenhausen-im-taunus.de
SUMMARY:Familiengottesdienst mit Gemeindefest
DESCRIPTION:
URL:https://wolfenhausen-im-taunus.de/event/familiengottesdienst-mit-gemeindefest/
LOCATION:Pfarrhof
CATEGORIES:Ev. Kirchengemeinde
END:VEVENT
BEGIN:VEVENT
DTSTART;VALUE=DATE:20260627
DTEND;VALUE=DATE:20260628
DTSTAMP:20260421T103500
CREATED:20251108T090851Z
LAST-MODIFIED:20251108T090851Z
UID:10000173-1782518400-1782604799@wolfenhausen-im-taunus.de
SUMMARY:Altherrenturnier 100 Jahre SV Wolfenhausen
DESCRIPTION:
URL:https://wolfenhausen-im-taunus.de/event/altherrenturnier-100-jahre-sv-wolfenhausen/
LOCATION:Sportlerheim\, Bornbachstraße 73\, Weilmünster\, 35789\, Deutschland
CATEGORIES:Sportverein
END:VEVENT
BEGIN:VEVENT
DTSTART;VALUE=DATE:20260628
DTEND;VALUE=DATE:20260629
DTSTAMP:20260421T103500
CREATED:20251108T090922Z
LAST-MODIFIED:20251108T090922Z
UID:10000174-1782604800-1782691199@wolfenhausen-im-taunus.de
SUMMARY:Ehemaligentreffen 100 Jahre SV Wolfenhausen
DESCRIPTION:
URL:https://wolfenhausen-im-taunus.de/event/ehemaligentreffen-100-jahre-sv-wolfenhausen/
LOCATION:Sportlerheim\, Bornbachstraße 73\, Weilmünster\, 35789\, Deutschland
CATEGORIES:Sportverein
END:VEVENT
BEGIN:VEVENT
DTSTART;VALUE=DATE:20260628
DTEND;VALUE=DATE:20260629
DTSTAMP:20260421T103500
CREATED:20251108T090954Z
LAST-MODIFIED:20251108T090954Z
UID:10000175-1782604800-1782691199@wolfenhausen-im-taunus.de
SUMMARY:Grillen KTZV H360
DESCRIPTION:
URL:https://wolfenhausen-im-taunus.de/event/grillen-ktzv-h360/
LOCATION:Lupusstraße
CATEGORIES:Kleintier Zuchtverein
END:VEVENT
BEGIN:VEVENT
DTSTART;VALUE=DATE:20260702
DTEND;VALUE=DATE:20260705
DTSTAMP:20260421T103500
CREATED:20251108T091114Z
LAST-MODIFIED:20251108T091114Z
UID:10000176-1782950400-1783209599@wolfenhausen-im-taunus.de
SUMMARY:Kinder und Jugendzeltlager
DESCRIPTION:
URL:https://wolfenhausen-im-taunus.de/event/kinder-und-jugendzeltlager/
LOCATION:Sportlerheim\, Bornbachstraße 73\, Weilmünster\, 35789\, Deutschland
CATEGORIES:Sportverein
END:VEVENT
BEGIN:VEVENT
DTSTART;VALUE=DATE:20260705
DTEND;VALUE=DATE:20260706
DTSTAMP:20260421T103500
CREATED:20251108T091153Z
LAST-MODIFIED:20251108T091153Z
UID:10000177-1783209600-1783295999@wolfenhausen-im-taunus.de
SUMMARY:Familientag und "Wolfenhausen läuft"
DESCRIPTION:
URL:https://wolfenhausen-im-taunus.de/event/familientag-und-wolfenhausen-laeuft/
LOCATION:Sportlerheim\, Bornbachstraße 73\, Weilmünster\, 35789\, Deutschland
CATEGORIES:Sportverein
END:VEVENT
BEGIN:VEVENT
DTSTART;VALUE=DATE:20260726
DTEND;VALUE=DATE:20260727
DTSTAMP:20260421T103500
CREATED:20251108T091229Z
LAST-MODIFIED:20251108T091229Z
UID:10000178-1785024000-1785110399@wolfenhausen-im-taunus.de
SUMMARY:Nachbarschaftsgottesdienst
DESCRIPTION:
URL:https://wolfenhausen-im-taunus.de/event/nachbarschaftsgottesdienst-6/
LOCATION:Elkerhausen
CATEGORIES:Ev. Kirchengemeinde
END:VEVENT
BEGIN:VEVENT
DTSTART;VALUE=DATE:20260731
DTEND;VALUE=DATE:20260804
DTSTAMP:20260421T103500
CREATED:20251108T091337Z
LAST-MODIFIED:20251108T091337Z
UID:10000179-1785456000-1785801599@wolfenhausen-im-taunus.de
SUMMARY:Kirmes
DESCRIPTION:
URL:https://wolfenhausen-im-taunus.de/event/kirmes/
LOCATION:Dorfgemeinschaftshaus\, Kirschbaumweg 17\, Weilmünster\, Hessen\, 35789\, Deutschland
CATEGORIES:Freiwillige Feuerwehr,Kirmesburschen und -Mädchen,Sportverein
END:VEVENT
BEGIN:VEVENT
DTSTART;VALUE=DATE:20260815
DTEND;VALUE=DATE:20260816
DTSTAMP:20260421T103500
CREATED:20251108T091447Z
LAST-MODIFIED:20251108T091447Z
UID:10000180-1786752000-1786838399@wolfenhausen-im-taunus.de
SUMMARY:Beachparty und 60 Jahre DLRG
DESCRIPTION:
URL:https://wolfenhausen-im-taunus.de/event/beachparty-und-60-jahre-dlrg/
LOCATION:Beheitztes Freibad Wolfenhausen\, Schwimmbadweg 16\, Weilmünster\, 35789\, Deutschland
CATEGORIES:DLRG
END:VEVENT
BEGIN:VEVENT
DTSTART;VALUE=DATE:20260823
DTEND;VALUE=DATE:20260824
DTSTAMP:20260421T103500
CREATED:20251108T091536Z
LAST-MODIFIED:20260212T180334Z
UID:10000181-1787443200-1787529599@wolfenhausen-im-taunus.de
SUMMARY:Höfeflohmarkt
DESCRIPTION:
URL:https://wolfenhausen-im-taunus.de/event/hoefeflohmarkt/
LOCATION:Hessen
CATEGORIES:Fördergemeinschaft Basar-Team
END:VEVENT
BEGIN:VEVENT
DTSTART;VALUE=DATE:20260829
DTEND;VALUE=DATE:20260830
DTSTAMP:20260421T103500
CREATED:20251108T091614Z
LAST-MODIFIED:20251108T091614Z
UID:10000182-1787961600-1788047999@wolfenhausen-im-taunus.de
SUMMARY:Weinfest
DESCRIPTION:
URL:https://wolfenhausen-im-taunus.de/event/weinfest/
LOCATION:Dorfgemeinschaftshaus\, Kirschbaumweg 17\, Weilmünster\, Hessen\, 35789\, Deutschland
CATEGORIES:Chorgemeinschaft
END:VEVENT
BEGIN:VEVENT
DTSTART;VALUE=DATE:20260905
DTEND;VALUE=DATE:20260906
DTSTAMP:20260421T103500
CREATED:20251108T091652Z
LAST-MODIFIED:20251108T091652Z
UID:10000183-1788566400-1788652799@wolfenhausen-im-taunus.de
SUMMARY:Kinderbasar
DESCRIPTION:
URL:https://wolfenhausen-im-taunus.de/event/kinderbasar-2/
LOCATION:Dorfgemeinschaftshaus\, Kirschbaumweg 17\, Weilmünster\, Hessen\, 35789\, Deutschland
CATEGORIES:Fördergemeinschaft Basar-Team
END:VEVENT
BEGIN:VEVENT
DTSTART;VALUE=DATE:20260912
DTEND;VALUE=DATE:20260913
DTSTAMP:20260421T103500
CREATED:20251108T091838Z
LAST-MODIFIED:20251108T091838Z
UID:10000184-1789171200-1789257599@wolfenhausen-im-taunus.de
SUMMARY:Tagesausflug DLRG und Feuerwehr
DESCRIPTION:
URL:https://wolfenhausen-im-taunus.de/event/tagesausflug-dlrg-und-feuerwehr/
LOCATION:Hessen
CATEGORIES:DLRG,Freiwillige Feuerwehr
END:VEVENT
BEGIN:VEVENT
DTSTART;VALUE=DATE:20260920
DTEND;VALUE=DATE:20260921
DTSTAMP:20260421T103500
CREATED:20251108T091914Z
LAST-MODIFIED:20251108T091914Z
UID:10000185-1789862400-1789948799@wolfenhausen-im-taunus.de
SUMMARY:Nachbarschaftsgottesdienst
DESCRIPTION:
URL:https://wolfenhausen-im-taunus.de/event/nachbarschaftsgottesdienst-7/
LOCATION:Altenkirchen
CATEGORIES:Ev. Kirchengemeinde
END:VEVENT
BEGIN:VEVENT
DTSTART;VALUE=DATE:20261003
DTEND;VALUE=DATE:20261004
DTSTAMP:20260421T103500
CREATED:20251108T091943Z
LAST-MODIFIED:20251108T091943Z
UID:10000186-1790985600-1791071999@wolfenhausen-im-taunus.de
SUMMARY:Canstatter Wasen SV Wolfenhausen
DESCRIPTION:
URL:https://wolfenhausen-im-taunus.de/event/canstatter-wasen-sv-wolfenhausen/
LOCATION:Hessen
CATEGORIES:Sportverein
END:VEVENT
BEGIN:VEVENT
DTSTART;VALUE=DATE:20261004
DTEND;VALUE=DATE:20261005
DTSTAMP:20260421T103500
CREATED:20251108T092016Z
LAST-MODIFIED:20251108T092016Z
UID:10000187-1791072000-1791158399@wolfenhausen-im-taunus.de
SUMMARY:Familiengottesdienst und Erntedankfest
DESCRIPTION:
URL:https://wolfenhausen-im-taunus.de/event/familiengottesdienst-und-erntedankfest/
LOCATION:Evangelische Kirche\, Kirchbergweg\, Weilmünster\, 35789\, Deutschland
CATEGORIES:Ev. Kirchengemeinde
END:VEVENT
BEGIN:VEVENT
DTSTART;VALUE=DATE:20261011
DTEND;VALUE=DATE:20261012
DTSTAMP:20260421T103500
CREATED:20251108T092059Z
LAST-MODIFIED:20251108T092059Z
UID:10000188-1791676800-1791763199@wolfenhausen-im-taunus.de
SUMMARY:Königsschießen und JHV Schützenverein
DESCRIPTION:
URL:https://wolfenhausen-im-taunus.de/event/koenigsschiessen-und-jhv-schuetzenverein/
LOCATION:Schützenhaus\, Bornbachstraße 73\, Weilmünster\, 35789\, Deutschland
CATEGORIES:Schützenverein
END:VEVENT
BEGIN:VEVENT
DTSTART;VALUE=DATE:20261024
DTEND;VALUE=DATE:20261025
DTSTAMP:20260421T103500
CREATED:20251108T092135Z
LAST-MODIFIED:20251108T092135Z
UID:10000189-1792800000-1792886399@wolfenhausen-im-taunus.de
SUMMARY:Oktoberfest
DESCRIPTION:
URL:https://wolfenhausen-im-taunus.de/event/oktoberfest/
LOCATION:Sportlerheim\, Bornbachstraße 73\, Weilmünster\, 35789\, Deutschland
CATEGORIES:Sportverein
END:VEVENT
BEGIN:VEVENT
DTSTART;VALUE=DATE:20261024
DTEND;VALUE=DATE:20261025
DTSTAMP:20260421T103500
CREATED:20251108T092217Z
LAST-MODIFIED:20251108T092217Z
UID:10000190-1792800000-1792886399@wolfenhausen-im-taunus.de
SUMMARY:Tischbewertung KTZV
DESCRIPTION:
URL:https://wolfenhausen-im-taunus.de/event/tischbewertung-ktzv/
LOCATION:Lupusstraße
CATEGORIES:Kleintier Zuchtverein
END:VEVENT
BEGIN:VEVENT
DTSTART;VALUE=DATE:20261028
DTEND;VALUE=DATE:20261029
DTSTAMP:20260421T103500
CREATED:20251108T092305Z
LAST-MODIFIED:20251108T092305Z
UID:10000191-1793145600-1793231999@wolfenhausen-im-taunus.de
SUMMARY:Termine des Dorfes 2027
DESCRIPTION:
URL:https://wolfenhausen-im-taunus.de/event/termine-des-dorfes-2027/
LOCATION:Schützenhaus\, Bornbachstraße 73\, Weilmünster\, 35789\, Deutschland
CATEGORIES:Ortsbeirat
END:VEVENT
END:VCALENDAR