BEGIN:VCALENDAR
VERSION:2.0
PRODID:-//Wolfenhausen im Taunus - ECPv6.15.16//NONSGML v1.0//EN
CALSCALE:GREGORIAN
METHOD:PUBLISH
X-ORIGINAL-URL:https://wolfenhausen-im-taunus.de
X-WR-CALDESC:Veranstaltungen für Wolfenhausen im Taunus
REFRESH-INTERVAL;VALUE=DURATION:PT1H
X-Robots-Tag:noindex
X-PUBLISHED-TTL:PT1H
BEGIN:VTIMEZONE
TZID:Europe/Berlin
BEGIN:DAYLIGHT
TZOFFSETFROM:+0100
TZOFFSETTO:+0200
TZNAME:CEST
DTSTART:20250330T010000
END:DAYLIGHT
BEGIN:STANDARD
TZOFFSETFROM:+0200
TZOFFSETTO:+0100
TZNAME:CET
DTSTART:20251026T010000
END:STANDARD
BEGIN:DAYLIGHT
TZOFFSETFROM:+0100
TZOFFSETTO:+0200
TZNAME:CEST
DTSTART:20260329T010000
END:DAYLIGHT
BEGIN:STANDARD
TZOFFSETFROM:+0200
TZOFFSETTO:+0100
TZNAME:CET
DTSTART:20261025T010000
END:STANDARD
BEGIN:DAYLIGHT
TZOFFSETFROM:+0100
TZOFFSETTO:+0200
TZNAME:CEST
DTSTART:20270328T010000
END:DAYLIGHT
BEGIN:STANDARD
TZOFFSETFROM:+0200
TZOFFSETTO:+0100
TZNAME:CET
DTSTART:20271031T010000
END:STANDARD
END:VTIMEZONE
BEGIN:VEVENT
DTSTART;VALUE=DATE:20261003
DTEND;VALUE=DATE:20261004
DTSTAMP:20260421T222157
CREATED:20251108T091943Z
LAST-MODIFIED:20251108T091943Z
UID:10000186-1790985600-1791071999@wolfenhausen-im-taunus.de
SUMMARY:Canstatter Wasen SV Wolfenhausen
DESCRIPTION:
URL:https://wolfenhausen-im-taunus.de/event/canstatter-wasen-sv-wolfenhausen/
LOCATION:Hessen
CATEGORIES:Sportverein
END:VEVENT
BEGIN:VEVENT
DTSTART;VALUE=DATE:20261004
DTEND;VALUE=DATE:20261005
DTSTAMP:20260421T222157
CREATED:20251108T092016Z
LAST-MODIFIED:20251108T092016Z
UID:10000187-1791072000-1791158399@wolfenhausen-im-taunus.de
SUMMARY:Familiengottesdienst und Erntedankfest
DESCRIPTION:
URL:https://wolfenhausen-im-taunus.de/event/familiengottesdienst-und-erntedankfest/
LOCATION:Evangelische Kirche\, Kirchbergweg\, Weilmünster\, 35789\, Deutschland
CATEGORIES:Ev. Kirchengemeinde
END:VEVENT
BEGIN:VEVENT
DTSTART;VALUE=DATE:20261011
DTEND;VALUE=DATE:20261012
DTSTAMP:20260421T222157
CREATED:20251108T092059Z
LAST-MODIFIED:20251108T092059Z
UID:10000188-1791676800-1791763199@wolfenhausen-im-taunus.de
SUMMARY:Königsschießen und JHV Schützenverein
DESCRIPTION:
URL:https://wolfenhausen-im-taunus.de/event/koenigsschiessen-und-jhv-schuetzenverein/
LOCATION:Schützenhaus\, Bornbachstraße 73\, Weilmünster\, 35789\, Deutschland
CATEGORIES:Schützenverein
END:VEVENT
BEGIN:VEVENT
DTSTART;VALUE=DATE:20261024
DTEND;VALUE=DATE:20261025
DTSTAMP:20260421T222157
CREATED:20251108T092135Z
LAST-MODIFIED:20251108T092135Z
UID:10000189-1792800000-1792886399@wolfenhausen-im-taunus.de
SUMMARY:Oktoberfest
DESCRIPTION:
URL:https://wolfenhausen-im-taunus.de/event/oktoberfest/
LOCATION:Sportlerheim\, Bornbachstraße 73\, Weilmünster\, 35789\, Deutschland
CATEGORIES:Sportverein
END:VEVENT
BEGIN:VEVENT
DTSTART;VALUE=DATE:20261024
DTEND;VALUE=DATE:20261025
DTSTAMP:20260421T222157
CREATED:20251108T092217Z
LAST-MODIFIED:20251108T092217Z
UID:10000190-1792800000-1792886399@wolfenhausen-im-taunus.de
SUMMARY:Tischbewertung KTZV
DESCRIPTION:
URL:https://wolfenhausen-im-taunus.de/event/tischbewertung-ktzv/
LOCATION:Lupusstraße
CATEGORIES:Kleintier Zuchtverein
END:VEVENT
BEGIN:VEVENT
DTSTART;VALUE=DATE:20261028
DTEND;VALUE=DATE:20261029
DTSTAMP:20260421T222157
CREATED:20251108T092305Z
LAST-MODIFIED:20251108T092305Z
UID:10000191-1793145600-1793231999@wolfenhausen-im-taunus.de
SUMMARY:Termine des Dorfes 2027
DESCRIPTION:
URL:https://wolfenhausen-im-taunus.de/event/termine-des-dorfes-2027/
LOCATION:Schützenhaus\, Bornbachstraße 73\, Weilmünster\, 35789\, Deutschland
CATEGORIES:Ortsbeirat
END:VEVENT
BEGIN:VEVENT
DTSTART;VALUE=DATE:20261031
DTEND;VALUE=DATE:20261101
DTSTAMP:20260421T222157
CREATED:20251108T092343Z
LAST-MODIFIED:20251108T092343Z
UID:10000192-1793404800-1793491199@wolfenhausen-im-taunus.de
SUMMARY:Seniorennachmittag
DESCRIPTION:
URL:https://wolfenhausen-im-taunus.de/event/seniorennachmittag/
LOCATION:Dorfgemeinschaftshaus\, Kirschbaumweg 17\, Weilmünster\, Hessen\, 35789\, Deutschland
CATEGORIES:Ev. Kirchengemeinde,Ortsbeirat
END:VEVENT
BEGIN:VEVENT
DTSTART;VALUE=DATE:20261031
DTEND;VALUE=DATE:20261101
DTSTAMP:20260421T222157
CREATED:20251108T092423Z
LAST-MODIFIED:20251108T092423Z
UID:10000193-1793404800-1793491199@wolfenhausen-im-taunus.de
SUMMARY:Gottesdienst zum Reformationsfest
DESCRIPTION:
URL:https://wolfenhausen-im-taunus.de/event/gottesdienst-zum-reformationsfest/
LOCATION:Evangelische Kirche\, Kirchbergweg\, Weilmünster\, 35789\, Deutschland
CATEGORIES:Ev. Kirchengemeinde
END:VEVENT
END:VCALENDAR